BEGIN:VCALENDAR
VERSION:2.0
PRODID:-//New Bluffton Worship - ECPv6.15.18//NONSGML v1.0//EN
CALSCALE:GREGORIAN
METHOD:PUBLISH
X-ORIGINAL-URL:https://thenewblufftonworship.com
X-WR-CALDESC:Events for New Bluffton Worship
REFRESH-INTERVAL;VALUE=DURATION:PT1H
X-Robots-Tag:noindex
X-PUBLISHED-TTL:PT1H
BEGIN:VTIMEZONE
TZID:UTC
BEGIN:STANDARD
TZOFFSETFROM:+0000
TZOFFSETTO:+0000
TZNAME:UTC
DTSTART:20240101T000000
END:STANDARD
END:VTIMEZONE
BEGIN:VEVENT
DTSTART;VALUE=DATE:20251121
DTEND;VALUE=DATE:20251124
DTSTAMP:20260425T033948
CREATED:20251114T175454Z
LAST-MODIFIED:20251120T011359Z
UID:7771-1763683200-1763942399@thenewblufftonworship.com
SUMMARY:Encounter Youth Retreat 2025
DESCRIPTION:Encounter Youth Retreat 2025November 21–23 | Epworth By The Sea \nOur Youth Group is gearing up for an unforgettable weekend at this year’s Encounter Youth Retreat! From November 21–23\, students in grades 6–12 will head to Epworth by the Sea for a powerful time of worship\, Bible study\, and connection. \nThis year’s theme\, “Real Talk\,” invites students to explore real-life faith questions in a safe\, Christ-centered environment while building friendships and growing closer to God. \nPlease keep our students and leaders in your prayers as they prepare for a meaningful and spiritually enriching weekend!
URL:https://thenewblufftonworship.com/event/encounter-youth-retreat-2025/
LOCATION:The New Bluffton Worship\, 39 Persimmon Street Suite 203 & 204\, Bluffton\, SC\, 29910\, United States
ATTACH;FMTTYPE=image/png:https://thenewblufftonworship.com/wp-content/uploads/2025/11/unnamed-5.png
END:VEVENT
END:VCALENDAR