BEGIN:VCALENDAR
VERSION:2.0
PRODID:-//New Bluffton Worship - ECPv6.15.18//NONSGML v1.0//EN
CALSCALE:GREGORIAN
METHOD:PUBLISH
X-ORIGINAL-URL:https://thenewblufftonworship.com
X-WR-CALDESC:Events for New Bluffton Worship
REFRESH-INTERVAL;VALUE=DURATION:PT1H
X-Robots-Tag:noindex
X-PUBLISHED-TTL:PT1H
BEGIN:VTIMEZONE
TZID:UTC
BEGIN:STANDARD
TZOFFSETFROM:+0000
TZOFFSETTO:+0000
TZNAME:UTC
DTSTART:20240101T000000
END:STANDARD
END:VTIMEZONE
BEGIN:VTIMEZONE
TZID:America/New_York
BEGIN:DAYLIGHT
TZOFFSETFROM:-0500
TZOFFSETTO:-0400
TZNAME:EDT
DTSTART:20240310T070000
END:DAYLIGHT
BEGIN:STANDARD
TZOFFSETFROM:-0400
TZOFFSETTO:-0500
TZNAME:EST
DTSTART:20241103T060000
END:STANDARD
BEGIN:DAYLIGHT
TZOFFSETFROM:-0500
TZOFFSETTO:-0400
TZNAME:EDT
DTSTART:20250309T070000
END:DAYLIGHT
BEGIN:STANDARD
TZOFFSETFROM:-0400
TZOFFSETTO:-0500
TZNAME:EST
DTSTART:20251102T060000
END:STANDARD
BEGIN:DAYLIGHT
TZOFFSETFROM:-0500
TZOFFSETTO:-0400
TZNAME:EDT
DTSTART:20260308T070000
END:DAYLIGHT
BEGIN:STANDARD
TZOFFSETFROM:-0400
TZOFFSETTO:-0500
TZNAME:EST
DTSTART:20261101T060000
END:STANDARD
END:VTIMEZONE
BEGIN:VEVENT
DTSTART;VALUE=DATE:20251121
DTEND;VALUE=DATE:20251124
DTSTAMP:20260425T015207
CREATED:20251114T175454Z
LAST-MODIFIED:20251120T011359Z
UID:7771-1763683200-1763942399@thenewblufftonworship.com
SUMMARY:Encounter Youth Retreat 2025
DESCRIPTION:Encounter Youth Retreat 2025November 21–23 | Epworth By The Sea \nOur Youth Group is gearing up for an unforgettable weekend at this year’s Encounter Youth Retreat! From November 21–23\, students in grades 6–12 will head to Epworth by the Sea for a powerful time of worship\, Bible study\, and connection. \nThis year’s theme\, “Real Talk\,” invites students to explore real-life faith questions in a safe\, Christ-centered environment while building friendships and growing closer to God. \nPlease keep our students and leaders in your prayers as they prepare for a meaningful and spiritually enriching weekend!
URL:https://thenewblufftonworship.com/event/encounter-youth-retreat-2025/
LOCATION:The New Bluffton Worship\, 39 Persimmon Street Suite 203 & 204\, Bluffton\, SC\, 29910\, United States
ATTACH;FMTTYPE=image/png:https://thenewblufftonworship.com/wp-content/uploads/2025/11/unnamed-5.png
END:VEVENT
BEGIN:VEVENT
DTSTART;VALUE=DATE:20251123
DTEND;VALUE=DATE:20251124
DTSTAMP:20260425T015207
CREATED:20251114T155406Z
LAST-MODIFIED:20251114T155501Z
UID:7761-1763856000-1763942399@thenewblufftonworship.com
SUMMARY:Slice of Gratitude
DESCRIPTION:Slice of GratitudeSaturday\, November 23 | Between 9:00am & 10:30am Services \nJoin us for a sweet morning of fellowship and thanksgiving! Our Hospitality Team invites you to “A Slice of Gratitude\,” a joyful gathering filled with warmth\, community\, and the spirit of the season. \nEnjoy a delicious assortment of holiday pies with whipped cream\, along with cozy cups of hot cocoa and apple cider. As we share these seasonal treats\, we’ll take a moment to reflect on God’s goodness and prepare our hearts for Thanksgiving. \nThis special gathering is inspired by Psalm 107:8:“Let them give thanks to the Lord for His unfailing love and His wonderful deeds for mankind.” \nBring your family\, invite a friend\, and come celebrate the sweetness of gratitude\, community\, and God’s unending love.
URL:https://thenewblufftonworship.com/event/slice-of-gratitude/
LOCATION:The New Bluffton Worship\, 39 Persimmon Street Suite 203 & 204\, Bluffton\, SC\, 29910\, United States
ATTACH;FMTTYPE=image/png:https://thenewblufftonworship.com/wp-content/uploads/2025/11/Slice-of-Gratitude-1.png
END:VEVENT
BEGIN:VEVENT
DTSTART;TZID=America/New_York:20251123T173000
DTEND;TZID=America/New_York:20251123T190000
DTSTAMP:20260425T015207
CREATED:20251016T150016Z
LAST-MODIFIED:20251022T183444Z
UID:7728-1763919000-1763924400@thenewblufftonworship.com
SUMMARY:Advent Wreath Making
DESCRIPTION:Join women of the church for an evening of fellowship and creativity as we prepare our hearts for the Advent season. Together\, we’ll create beautiful Advent wreaths and enjoy time connecting with one another in faith and friendship. \n📧 RSVP: lbjones8528@gmail.com
URL:https://thenewblufftonworship.com/event/advent-wreath-making/
LOCATION:The New Bluffton Worship\, 39 Persimmon Street Suite 203 & 204\, Bluffton\, SC\, 29910\, United States
ATTACH;FMTTYPE=image/jpeg:https://thenewblufftonworship.com/wp-content/uploads/2025/10/Womens-Advent-Wreath.jpg
ORGANIZER;CN="Laurie Jones":MAILTO:lbjones8528@gmail.com
END:VEVENT
END:VCALENDAR