BEGIN:VCALENDAR
VERSION:2.0
PRODID:-//New Bluffton Worship - ECPv6.15.18//NONSGML v1.0//EN
CALSCALE:GREGORIAN
METHOD:PUBLISH
X-WR-CALNAME:New Bluffton Worship
X-ORIGINAL-URL:https://thenewblufftonworship.com
X-WR-CALDESC:Events for New Bluffton Worship
REFRESH-INTERVAL;VALUE=DURATION:PT1H
X-Robots-Tag:noindex
X-PUBLISHED-TTL:PT1H
BEGIN:VTIMEZONE
TZID:UTC
BEGIN:STANDARD
TZOFFSETFROM:+0000
TZOFFSETTO:+0000
TZNAME:UTC
DTSTART:20240101T000000
END:STANDARD
END:VTIMEZONE
BEGIN:VEVENT
DTSTART;TZID=UTC:20251206T100000
DTEND;TZID=UTC:20251206T120000
DTSTAMP:20260424T130741
CREATED:20251114T165646Z
LAST-MODIFIED:20251114T170523Z
UID:7764-1765015200-1765022400@thenewblufftonworship.com
SUMMARY:54th Annual Bluffton Christmas Parade
DESCRIPTION:54th Annual Bluffton Christmas Parade 🎄Saturday\, December 6\, 2025 | Downtown Bluffton \nWe’re thrilled to share that New Bluffton Worship will be participating in the Town of Bluffton’s 54th Annual Christmas Parade! This beloved community event brings together families\, friends\, local organizations\, and churches for a joyful celebration of the season\, and we would love for you to join us. \nCome out and enjoy the parade\, cheer on our church float\, and show your support as we share the love and light of Christ with our community. It’s a wonderful opportunity to connect with one another\, meet neighbors\, and celebrate the spirit of Christmas in beautiful downtown Bluffton. \nBring your family\, invite friends\, and gather with us along the parade route for a festive morning of fun\, community\, and holiday cheer!
URL:https://thenewblufftonworship.com/event/54th-annual-bluffton-christmas-parade/
LOCATION:Downtown Blufton
ATTACH;FMTTYPE=image/webp:https://thenewblufftonworship.com/wp-content/uploads/2025/11/parade.webp
END:VEVENT
END:VCALENDAR