BEGIN:VCALENDAR
VERSION:2.0
PRODID:-//New Bluffton Worship - ECPv6.15.18//NONSGML v1.0//EN
CALSCALE:GREGORIAN
METHOD:PUBLISH
X-WR-CALNAME:New Bluffton Worship
X-ORIGINAL-URL:https://thenewblufftonworship.com
X-WR-CALDESC:Events for New Bluffton Worship
REFRESH-INTERVAL;VALUE=DURATION:PT1H
X-Robots-Tag:noindex
X-PUBLISHED-TTL:PT1H
BEGIN:VTIMEZONE
TZID:America/New_York
BEGIN:DAYLIGHT
TZOFFSETFROM:-0500
TZOFFSETTO:-0400
TZNAME:EDT
DTSTART:20240310T070000
END:DAYLIGHT
BEGIN:STANDARD
TZOFFSETFROM:-0400
TZOFFSETTO:-0500
TZNAME:EST
DTSTART:20241103T060000
END:STANDARD
BEGIN:DAYLIGHT
TZOFFSETFROM:-0500
TZOFFSETTO:-0400
TZNAME:EDT
DTSTART:20250309T070000
END:DAYLIGHT
BEGIN:STANDARD
TZOFFSETFROM:-0400
TZOFFSETTO:-0500
TZNAME:EST
DTSTART:20251102T060000
END:STANDARD
BEGIN:DAYLIGHT
TZOFFSETFROM:-0500
TZOFFSETTO:-0400
TZNAME:EDT
DTSTART:20260308T070000
END:DAYLIGHT
BEGIN:STANDARD
TZOFFSETFROM:-0400
TZOFFSETTO:-0500
TZNAME:EST
DTSTART:20261101T060000
END:STANDARD
END:VTIMEZONE
BEGIN:VEVENT
DTSTART;TZID=America/New_York:20251224T183000
DTEND;TZID=America/New_York:20251224T193000
DTSTAMP:20260424T005742
CREATED:20240907T113701Z
LAST-MODIFIED:20251120T124935Z
UID:6473-1766601000-1766604600@thenewblufftonworship.com
SUMMARY:Christmas Eve Under the Stars
DESCRIPTION:Oyster Factory Park\, 63 Wharf St.\, Bluffton\, SC  29910 \nLooking for a place to celebrate Christmas Eve with your entire family?\nCome worship under a twinkling canopy of lights and stars on the May River with The New Bluffton Worship and our friends at First Zion Missionary Baptist Church.  Live music and singing of carols\, Christmas messages and the celebration culminates with the lighting of candles to Silent Night.  The park has some seating or bring a lawn chair. Free refreshments and music starting at 6:00pm.  Any donations will benefit our Blessings Ministry which provides school supplies\, uniforms\, Christmas gifts and more throughout the year to families in need. \nMore Details
URL:https://thenewblufftonworship.com/event/christmas-eve-under-the-stars/
LOCATION:Oyster Factory Park\, 63 Wharf St\, Bluffton\, SC\, 29910\, United States
ATTACH;FMTTYPE=image/jpeg:https://thenewblufftonworship.com/wp-content/uploads/2024/08/About-Salvation.jpg
END:VEVENT
END:VCALENDAR