BEGIN:VCALENDAR
VERSION:2.0
PRODID:-//New Bluffton Worship - ECPv6.15.18//NONSGML v1.0//EN
CALSCALE:GREGORIAN
METHOD:PUBLISH
X-WR-CALNAME:New Bluffton Worship
X-ORIGINAL-URL:https://thenewblufftonworship.com
X-WR-CALDESC:Events for New Bluffton Worship
REFRESH-INTERVAL;VALUE=DURATION:PT1H
X-Robots-Tag:noindex
X-PUBLISHED-TTL:PT1H
BEGIN:VTIMEZONE
TZID:UTC
BEGIN:STANDARD
TZOFFSETFROM:+0000
TZOFFSETTO:+0000
TZNAME:UTC
DTSTART:20250101T000000
END:STANDARD
END:VTIMEZONE
BEGIN:VEVENT
DTSTART;TZID=UTC:20260122T170000
DTEND;TZID=UTC:20260122T183000
DTSTAMP:20260423T230819
CREATED:20260114T021454Z
LAST-MODIFIED:20260114T022353Z
UID:7880-1769101200-1769106600@thenewblufftonworship.com
SUMMARY:Spiritual Vision Workshop
DESCRIPTION:Spiritual Vision Workshop\nThursday January 22 | 5:00 to 6:30 p.m. \nAs we begin a new year\, you are invited to a peaceful and prayerful evening focused on preparing our hearts for the season ahead. \nThis Spiritual Vision Workshop offers a guided time of prayer reflection and listening as we seek to hear what God is calling us to in this season. Rather than focusing on our own goals we will reflect on Scripture through God’s eyes and seek His direction for our lives. \nThrough guided questions and moments of reflection participants will be encouraged to create a personal spiritual vision rooted in faith hope and the promises of Jesus. \nWhat to Expect\nPrayer and Scripture reflectionGuided questions for discernmentSpace to seek God’s vision for the year aheadA calm and peaceful environment centered on the hope of Jesus \nWhether you are seeking clarity renewal or simply a quiet moment with God this workshop is for you. \nPlease RSVP to Laurie JonesEmail: lbjones8528@gmail.com
URL:https://thenewblufftonworship.com/event/spiritual-vision-workshop/
LOCATION:The New Bluffton Worship\, 39 Persimmon Street Suite 203 & 204\, Bluffton\, SC\, 29910\, United States
ATTACH;FMTTYPE=image/png:https://thenewblufftonworship.com/wp-content/uploads/2026/01/Spiritual-Vision-Workshop-e1768357303229.png
ORGANIZER;CN="Laurie Jones":MAILTO:lbjones8528@gmail.com
END:VEVENT
END:VCALENDAR