BEGIN:VCALENDAR
VERSION:2.0
PRODID:-//New Bluffton Worship - ECPv6.15.18//NONSGML v1.0//EN
CALSCALE:GREGORIAN
METHOD:PUBLISH
X-WR-CALNAME:New Bluffton Worship
X-ORIGINAL-URL:https://thenewblufftonworship.com
X-WR-CALDESC:Events for New Bluffton Worship
REFRESH-INTERVAL;VALUE=DURATION:PT1H
X-Robots-Tag:noindex
X-PUBLISHED-TTL:PT1H
BEGIN:VTIMEZONE
TZID:UTC
BEGIN:STANDARD
TZOFFSETFROM:+0000
TZOFFSETTO:+0000
TZNAME:UTC
DTSTART:20250101T000000
END:STANDARD
END:VTIMEZONE
BEGIN:VEVENT
DTSTART;TZID=UTC:20260219T150000
DTEND;TZID=UTC:20260402T163000
DTSTAMP:20260423T193734
CREATED:20260201T030122Z
LAST-MODIFIED:20260304T223014Z
UID:7921-1771513200-1775147400@thenewblufftonworship.com
SUMMARY:Women’s Bible Study | Ephesians
DESCRIPTION:Women’s Bible Study: Ephesians\nJoin us for a seven-week women’s Bible study through the book of Ephesians as we explore how our faith shapes the way we live each day. This study is led by Laurie Jones and will meet weekly on Thursdays\, beginning February 19\, from 3:00 to 4:30 pm in the New Bluffton Worship Main Building. \nEach weekly session will include video teaching\, a guided teaching component\, and group discussion\, along with study questions for personal reflection to complete at home. Together\, we will explore the timeless truths found in Paul’s letter and consider the question posed in the study’s introduction: as saints transformed from death to life through Jesus Christ\, how do we now live? This study focuses on both faith and daily practice and features teaching from Bible teachers\, authors\, and friends Jackie Hill Perry\, Jasmine Holmes\, and Melissa Kruger. \nThe study guide is available for purchase on Amazon using this link below. \nhttps://a.co/d/25k8OSV \nIf you need assistance purchasing the book or have any questions\, please let us know through the registration form. \nPlease use the form below to register. \nhttps://blufftonworship.breezechms.com/form/d5a360
URL:https://thenewblufftonworship.com/event/womens-bible-study-ephesians/
LOCATION:The New Bluffton Worship\, 39 Persimmon Street Suite 203 & 204\, Bluffton\, SC\, 29910\, United States
ATTACH;FMTTYPE=image/jpeg:https://thenewblufftonworship.com/wp-content/uploads/2026/02/Womens-Ephesians.jpg
ORGANIZER;CN="Laurie Jones":MAILTO:lbjones8528@gmail.com
END:VEVENT
END:VCALENDAR