BEGIN:VCALENDAR
VERSION:2.0
PRODID:-//New Bluffton Worship - ECPv6.15.18//NONSGML v1.0//EN
CALSCALE:GREGORIAN
METHOD:PUBLISH
X-WR-CALNAME:New Bluffton Worship
X-ORIGINAL-URL:https://thenewblufftonworship.com
X-WR-CALDESC:Events for New Bluffton Worship
REFRESH-INTERVAL;VALUE=DURATION:PT1H
X-Robots-Tag:noindex
X-PUBLISHED-TTL:PT1H
BEGIN:VTIMEZONE
TZID:UTC
BEGIN:STANDARD
TZOFFSETFROM:+0000
TZOFFSETTO:+0000
TZNAME:UTC
DTSTART:20250101T000000
END:STANDARD
END:VTIMEZONE
BEGIN:VEVENT
DTSTART;TZID=UTC:20260403T180000
DTEND;TZID=UTC:20260403T193000
DTSTAMP:20260423T175528
CREATED:20260327T041031Z
LAST-MODIFIED:20260327T041031Z
UID:8133-1775239200-1775244600@thenewblufftonworship.com
SUMMARY:Good Friday: The Last Supper & Journey to the Cross
DESCRIPTION:You are invited to a meaningful Good Friday worship experience at New Bluffton Worship. Together\, we will walk through the Journey to the Cross\, visiting stations from the Last Supper to the cross\, and experience the depth of Jesus’ love and sacrifice for us. \n\nThis is a special time to pause\, reflect\, and connect with God in a personal and intentional way. \nFriday\, April 3rd | 6:00 PMThe New Bluffton Worship \nFamilies are welcome!Children’s Church will be available during the service. Kids will have their own engaging\, kid-friendly Journey to the Cross with dinner\, hands-on activities\, and interactive stations designed just for them. \nCome as you are. Bring your family\, bring your friends\, and worship with us as we remember Jesus’ sacrifice and prepare our hearts for Easter. Everyone is welcome.
URL:https://thenewblufftonworship.com/event/good-friday-the-last-supper-journey-to-the-cross/
LOCATION:The New Bluffton Worship\, 39 Persimmon Street Suite 203 & 204\, Bluffton\, SC\, 29910\, United States
ATTACH;FMTTYPE=image/png:https://thenewblufftonworship.com/wp-content/uploads/2026/03/Purple-and-Brown-Illustrated-Good-Friday-Facebook-Post.png
END:VEVENT
BEGIN:VEVENT
DTSTART;TZID=UTC:20260403T180000
DTEND;TZID=UTC:20260403T193000
DTSTAMP:20260423T175528
CREATED:20260327T044725Z
LAST-MODIFIED:20260327T044725Z
UID:8138-1775239200-1775244600@thenewblufftonworship.com
SUMMARY:First Friday: Kids’ Journey to the Cross
DESCRIPTION:Bring your children to a special Kid-Friendly Journey to the Cross during Good Friday worship at The New Bluffton Worship. While parents worship\, kids will experience the story of Jesus from the Last Supper to the cross through interactive stations\, hands-on activities\, and a shared dinner. \nThis meaningful experience helps children understand Jesus’ love and sacrifice in a way that is age-appropriate and engaging. Families are invited to join us for this special Good Friday as we reflect together on the Easter story. \nAges 3 through 5th grade are welcome. \nDate: Friday\, April 3Time: 6:00 PMLocation: New Bluffton Worship \nPlease Click Below to RSVP your child’s spot. \nFirst Friday- April 03\, 2026
URL:https://thenewblufftonworship.com/event/first-friday-kids-journey-to-the-cross/
LOCATION:The New Bluffton Worship\, 39 Persimmon Street Suite 203 & 204\, Bluffton\, SC\, 29910\, United States
ATTACH;FMTTYPE=image/jpeg:https://thenewblufftonworship.com/wp-content/uploads/2026/03/websiteeasterthing-01.jpg
END:VEVENT
END:VCALENDAR