BEGIN:VCALENDAR
VERSION:2.0
PRODID:-//New Bluffton Worship - ECPv6.15.18//NONSGML v1.0//EN
CALSCALE:GREGORIAN
METHOD:PUBLISH
X-ORIGINAL-URL:https://thenewblufftonworship.com
X-WR-CALDESC:Events for New Bluffton Worship
REFRESH-INTERVAL;VALUE=DURATION:PT1H
X-Robots-Tag:noindex
X-PUBLISHED-TTL:PT1H
BEGIN:VTIMEZONE
TZID:UTC
BEGIN:STANDARD
TZOFFSETFROM:+0000
TZOFFSETTO:+0000
TZNAME:UTC
DTSTART:20250101T000000
END:STANDARD
END:VTIMEZONE
BEGIN:VEVENT
DTSTART;TZID=UTC:20260405T070000
DTEND;TZID=UTC:20260405T080000
DTSTAMP:20260423T180919
CREATED:20260302T183707Z
LAST-MODIFIED:20260309T151655Z
UID:6795-1775372400-1775376000@thenewblufftonworship.com
SUMMARY:Easter Sunrise Service at Oyster Factory Park
DESCRIPTION:Easter Sunrise Service on Sunday\, April 5 at 7:00 AM at Oyster Factory Park overlooking the beautiful May River. As the sun rises over the water\, we will gather together to celebrate our risen King in a time of worship and prayer. The New Bluffton Worship and First Zion Missionary Baptist Church will come together for this meaningful service as we celebrate the resurrection of Jesus. Feel free to bring a lawn chair or blanket as we gather outdoors for this special moment of worship. \nClick Here for more Easter Service Information Easter Celebration | New Bluffton Worship
URL:https://thenewblufftonworship.com/event/easter-sunrise-service/
LOCATION:Oyster Factory Park\, 63 Wharf St\, Bluffton\, SC\, 29910\, United States
ATTACH;FMTTYPE=image/jpeg:https://thenewblufftonworship.com/wp-content/uploads/2025/01/sunrise-May-River-service.jpg
END:VEVENT
BEGIN:VEVENT
DTSTART;TZID=UTC:20260405T090000
DTEND;TZID=UTC:20260405T103000
DTSTAMP:20260423T180919
CREATED:20260403T192628Z
LAST-MODIFIED:20260403T192851Z
UID:8164-1775379600-1775385000@thenewblufftonworship.com
SUMMARY:Easter at The New Bluffton Worship
DESCRIPTION:Celebrate the joy\, hope\, and new life of Easter with us at New Bluffton Worship. We invite you and your family to join us for a meaningful and uplifting day as we celebrate the resurrection of Jesus together. \nFrom powerful worship to special experiences for the whole family\, Easter at New Bluffton Worship is a day you won’t want to miss. \nEaster ServicesJoin us for a welcoming and inspiring worship experience with music\, prayer\, and a message of hope.Service Times: 9:00 AM and 10:30 AM \nChildren’s MinistryNursery will be available during both the 9:00 AM and 10:30 AM services.Children’s Church will be available during the 10:30 AM service\, where children will experience an age-appropriate “Journey to the Cross” through interactive activities and hands-on learning. \nEaster Egg HuntChildren and families are invited to join us for an Easter egg hunt following the 10:30 AM service. Don’t forget to bring your baskets. \nFlower Cross ExperienceBe part of a beautiful Easter tradition by helping decorate the cross with flowers. This interactive experience is a powerful reminder of new life and resurrection. You are welcome to bring flowers or use the ones provided. \nWhether you have been attending for years or this is your first time visiting\, you are welcome here. Come as you are\, bring your family\, and celebrate the hope of Easter with us. \nFor more information\, please click below to visit our Easter page. We look forward to celebrating with you. \nEaster Celebration | New Bluffton Worship
URL:https://thenewblufftonworship.com/event/easter-at-the-new-bluffton-worship/
LOCATION:The New Bluffton Worship\, 39 Persimmon Street Suite 203 & 204\, Bluffton\, SC\, 29910\, United States
ATTACH;FMTTYPE=image/png:https://thenewblufftonworship.com/wp-content/uploads/2026/04/Neutral-Simple-Vision-Board-Photo-Collage.png
END:VEVENT
END:VCALENDAR