BEGIN:VCALENDAR
VERSION:2.0
PRODID:-//New Bluffton Worship - ECPv6.15.18//NONSGML v1.0//EN
CALSCALE:GREGORIAN
METHOD:PUBLISH
X-WR-CALNAME:New Bluffton Worship
X-ORIGINAL-URL:https://thenewblufftonworship.com
X-WR-CALDESC:Events for New Bluffton Worship
REFRESH-INTERVAL;VALUE=DURATION:PT1H
X-Robots-Tag:noindex
X-PUBLISHED-TTL:PT1H
BEGIN:VTIMEZONE
TZID:UTC
BEGIN:STANDARD
TZOFFSETFROM:+0000
TZOFFSETTO:+0000
TZNAME:UTC
DTSTART:20250101T000000
END:STANDARD
END:VTIMEZONE
BEGIN:VEVENT
DTSTART;TZID=UTC:20260412T120000
DTEND;TZID=UTC:20260412T133000
DTSTAMP:20260423T175600
CREATED:20260403T181752Z
LAST-MODIFIED:20260403T182542Z
UID:8145-1775995200-1776000600@thenewblufftonworship.com
SUMMARY:Prayer Ministry
DESCRIPTION:Prayer Ministry Gathering \nAs part of our commitment to being a prayer-driven church\, we are launching a new prayer ministry. \nThis ministry will focus on:\n• Praying over special events such as Easter\, Christmas Eve\, and community gatherings\n• Supporting our blessing ministry through intentional prayer\n• Participating in prayer walks throughout our community\n• Covering our children\, youth\, and church family in prayer \nYou do not need to be an expert in prayer. If you have a heart for God\, for our church\, and for our community\, you are invited. \nAll ages are welcome\, and youth are encouraged to participate. This will be a time to gather\, share ideas\, and begin exploring what this ministry can become together.
URL:https://thenewblufftonworship.com/event/prayer-ministry/
LOCATION:The New Bluffton Worship\, 39 Persimmon Street Suite 203 & 204\, Bluffton\, SC\, 29910\, United States
ATTACH;FMTTYPE=image/jpeg:https://thenewblufftonworship.com/wp-content/uploads/2026/04/Prayer-Ministry-Wide-1280x720-1.jpg
END:VEVENT
END:VCALENDAR