BEGIN:VCALENDAR
VERSION:2.0
PRODID:-//New Bluffton Worship - ECPv6.15.18//NONSGML v1.0//EN
CALSCALE:GREGORIAN
METHOD:PUBLISH
X-WR-CALNAME:New Bluffton Worship
X-ORIGINAL-URL:https://thenewblufftonworship.com
X-WR-CALDESC:Events for New Bluffton Worship
REFRESH-INTERVAL;VALUE=DURATION:PT1H
X-Robots-Tag:noindex
X-PUBLISHED-TTL:PT1H
BEGIN:VTIMEZONE
TZID:UTC
BEGIN:STANDARD
TZOFFSETFROM:+0000
TZOFFSETTO:+0000
TZNAME:UTC
DTSTART:20250101T000000
END:STANDARD
END:VTIMEZONE
BEGIN:VEVENT
DTSTART;VALUE=DATE:20260503
DTEND;VALUE=DATE:20260629
DTSTAMP:20260424T064435
CREATED:20260423T150335Z
LAST-MODIFIED:20260423T150335Z
UID:8175-1777766400-1782691199@thenewblufftonworship.com
SUMMARY:⛳ Women’s Golf Group
DESCRIPTION:We’re excited to begin a Women’s Golf Group\, and we would love for you to join us! Whether you are an experienced golfer or have never picked up a club\, all skill levels are welcome. This will be a wonderful opportunity for fun\, laughter\, fellowship\, and building friendships together. \nIf you would like to be part of the group\, please sign up using the form below. \nWomen’s Golf Group Interest \nMore details will be shared soon as we get everything organized\, and we look forward to spending this time together. ⛳
URL:https://thenewblufftonworship.com/event/%e2%9b%b3-womens-golf-group/
LOCATION:The New Bluffton Worship\, 39 Persimmon Street Suite 203 & 204\, Bluffton\, SC\, 29910\, United States
ATTACH;FMTTYPE=image/png:https://thenewblufftonworship.com/wp-content/uploads/2026/04/White-And-Green-Modern-Ladies-Golf-Day-Facebook-Post.png
END:VEVENT
BEGIN:VEVENT
DTSTART;VALUE=DATE:20260510
DTEND;VALUE=DATE:20260511
DTSTAMP:20260424T064435
CREATED:20260423T155508Z
LAST-MODIFIED:20260423T205432Z
UID:8183-1778371200-1778457599@thenewblufftonworship.com
SUMMARY:🌷Mother’s Day Sunday Celebration
DESCRIPTION:Join us at The New Bluffton Worship for a special Mother’s Day Sunday Celebration as we honor and celebrate all mothers and the incredible women in our lives. \nSunday\, May 10 | 9:00 AM & 10:30 AM \nDuring both services\, we will take time to recognize and pray over mothers\, celebrate the love and care they give\, and thank God for the blessing they are to their families and our church community. \nWe invite you to bring your family and join us for this meaningful morning of worship\, encouragement\, and celebration as we honor the women who make such a difference in our lives. \nWe look forward to celebrating with you!
URL:https://thenewblufftonworship.com/event/%f0%9f%8c%b7mothers-day-sunday-celebration/
LOCATION:The New Bluffton Worship\, 39 Persimmon Street Suite 203 & 204\, Bluffton\, SC\, 29910\, United States
ATTACH;FMTTYPE=image/png:https://thenewblufftonworship.com/wp-content/uploads/2026/04/Mothers-Day-image-with-text-that-says-_Mothers-Day-Sunday_-elegant-and-heartfelt-design-with-flowers-soft-colors-celebratory-theme.png
END:VEVENT
END:VCALENDAR