BEGIN:VCALENDAR
VERSION:2.0
PRODID:-//New Bluffton Worship - ECPv6.15.18//NONSGML v1.0//EN
CALSCALE:GREGORIAN
METHOD:PUBLISH
X-ORIGINAL-URL:https://thenewblufftonworship.com
X-WR-CALDESC:Events for New Bluffton Worship
REFRESH-INTERVAL;VALUE=DURATION:PT1H
X-Robots-Tag:noindex
X-PUBLISHED-TTL:PT1H
BEGIN:VTIMEZONE
TZID:UTC
BEGIN:STANDARD
TZOFFSETFROM:+0000
TZOFFSETTO:+0000
TZNAME:UTC
DTSTART:20250101T000000
END:STANDARD
END:VTIMEZONE
BEGIN:VEVENT
DTSTART;TZID=UTC:20260517T120000
DTEND;TZID=UTC:20260517T133000
DTSTAMP:20260423T225556
CREATED:20260403T191210Z
LAST-MODIFIED:20260403T191210Z
UID:8159-1779019200-1779024600@thenewblufftonworship.com
SUMMARY:Spring Discipleship Classe
DESCRIPTION:We are offering a new round of discipleship classes for anyone who wants to grow in their faith and connect more deeply with our church community. Whether you are new or have been attending for a while\, this is a great next step. \nThis is a three-session class\, and participants are encouraged to attend all sessions as we grow and learn together. \nClass Dates: May 17\, May 31\, and June 7Time: 12:00 PM (after worship)Location: New Bluffton Worship \nLight refreshments will be served each week. \n👉 Interested in joining? Sign up through the link below to reserve your spot and receive more details. \nSpring Discipleship Classes \nWe can’t wait to see you there and share this meaningful journey of learning and fellowship together!
URL:https://thenewblufftonworship.com/event/spring-discipleship-classe/
LOCATION:The New Bluffton Worship\, 39 Persimmon Street Suite 203 & 204\, Bluffton\, SC\, 29910\, United States
ATTACH;FMTTYPE=image/png:https://thenewblufftonworship.com/wp-content/uploads/2026/04/Red-and-Green-Blurry-Floral-Sermon-Church-Presentation.png
ORGANIZER;CN="Larry Moneypenny":MAILTO:lmoneypenny266@gmail.com
END:VEVENT
BEGIN:VEVENT
DTSTART;TZID=UTC:20260517T180000
DTEND;TZID=UTC:20260517T200000
DTSTAMP:20260423T225556
CREATED:20260423T160647Z
LAST-MODIFIED:20260423T163357Z
UID:8187-1779040800-1779048000@thenewblufftonworship.com
SUMMARY:🍿Ladies Movie Night
DESCRIPTION:Ladies\, grab your favorite movie snack and join us for a fun and inspiring Ladies Movie Night at The New Bluffton Worship! \nWe’ll be watching Faithful Women of the Bible and enjoying an evening filled with popcorn\, candy\, laughter\, encouragement\, and sweet fellowship. This is the perfect opportunity to relax\, connect with other women\, and be inspired by the faithfulness of the women in Scripture. \nSunday\, May 17\n6:00 PM – 8:00 PM\nAt The New Bluffton Worship \nBring a friend and come enjoy a cozy night of faith\, fun\, and fellowship—great company guaranteed! \nPlease RSVP to Laurie Jones at LBJones8528@gmail.com \nWe can’t wait to spend this special evening with you! 🍿💕
URL:https://thenewblufftonworship.com/event/%f0%9f%8d%bfladies-movie-night/
LOCATION:The New Bluffton Worship\, 39 Persimmon Street Suite 203 & 204\, Bluffton\, SC\, 29910\, United States
ATTACH;FMTTYPE=image/png:https://thenewblufftonworship.com/wp-content/uploads/2026/04/Youre-invited-to-a-movie-night-Come-relax-and-enjoy-some-films-with-us.-Join-us-for-a-cozy-movie-night-Popcorn-comfy-blankets-and-great-company-guaranteed.-1-e1776962009282.png
END:VEVENT
BEGIN:VEVENT
DTSTART;VALUE=DATE:20260531
DTEND;VALUE=DATE:20260601
DTSTAMP:20260423T225556
CREATED:20260423T151923Z
LAST-MODIFIED:20260423T151951Z
UID:8179-1780185600-1780271999@thenewblufftonworship.com
SUMMARY:🎓 Graduate Recognition Sunday
DESCRIPTION:Join us for Graduate Recognition Sunday as we celebrate and honor the Class of 2026 at The New Bluffton Worship! \nDuring both services\, we will take time to recognize our high school and college graduates\, celebrate their accomplishments\, and pray over them as they step into this exciting new season of life. \nSunday\, May 31 | 9:00 AM & 10:30 AM \nIf you have a graduate in your family\, please send the following information: \n\nGraduate’s name\nSchool they are graduating from\nDegree or diploma (if applicable)\nFuture plans (college\, work\, military\, etc.)\nA recent photo of the graduate\n\nPlease email all information to connect.blufftonworship@gmail.com \nWe look forward to celebrating our graduates together as a church family and honoring all that God has done in their lives!
URL:https://thenewblufftonworship.com/event/%f0%9f%8e%93-graduate-recognition-sunday/
LOCATION:The New Bluffton Worship\, 39 Persimmon Street Suite 203 & 204\, Bluffton\, SC\, 29910\, United States
ATTACH;FMTTYPE=image/png:https://thenewblufftonworship.com/wp-content/uploads/2026/04/Grey-and-Brown-Watercolor-Flowy-Script-Style-Graduation-Postcard.png
END:VEVENT
END:VCALENDAR