BEGIN:VCALENDAR
VERSION:2.0
PRODID:-//New Bluffton Worship - ECPv6.15.18//NONSGML v1.0//EN
CALSCALE:GREGORIAN
METHOD:PUBLISH
X-ORIGINAL-URL:https://thenewblufftonworship.com
X-WR-CALDESC:Events for New Bluffton Worship
REFRESH-INTERVAL;VALUE=DURATION:PT1H
X-Robots-Tag:noindex
X-PUBLISHED-TTL:PT1H
BEGIN:VTIMEZONE
TZID:UTC
BEGIN:STANDARD
TZOFFSETFROM:+0000
TZOFFSETTO:+0000
TZNAME:UTC
DTSTART:20250101T000000
END:STANDARD
END:VTIMEZONE
BEGIN:VEVENT
DTSTART;VALUE=DATE:20260531
DTEND;VALUE=DATE:20260601
DTSTAMP:20260424T001218
CREATED:20260423T151923Z
LAST-MODIFIED:20260423T151951Z
UID:8179-1780185600-1780271999@thenewblufftonworship.com
SUMMARY:🎓 Graduate Recognition Sunday
DESCRIPTION:Join us for Graduate Recognition Sunday as we celebrate and honor the Class of 2026 at The New Bluffton Worship! \nDuring both services\, we will take time to recognize our high school and college graduates\, celebrate their accomplishments\, and pray over them as they step into this exciting new season of life. \nSunday\, May 31 | 9:00 AM & 10:30 AM \nIf you have a graduate in your family\, please send the following information: \n\nGraduate’s name\nSchool they are graduating from\nDegree or diploma (if applicable)\nFuture plans (college\, work\, military\, etc.)\nA recent photo of the graduate\n\nPlease email all information to connect.blufftonworship@gmail.com \nWe look forward to celebrating our graduates together as a church family and honoring all that God has done in their lives!
URL:https://thenewblufftonworship.com/event/%f0%9f%8e%93-graduate-recognition-sunday/
LOCATION:The New Bluffton Worship\, 39 Persimmon Street Suite 203 & 204\, Bluffton\, SC\, 29910\, United States
ATTACH;FMTTYPE=image/png:https://thenewblufftonworship.com/wp-content/uploads/2026/04/Grey-and-Brown-Watercolor-Flowy-Script-Style-Graduation-Postcard.png
END:VEVENT
END:VCALENDAR