BEGIN:VCALENDAR
VERSION:2.0
PRODID:-//New Bluffton Worship - ECPv6.15.18//NONSGML v1.0//EN
CALSCALE:GREGORIAN
METHOD:PUBLISH
X-WR-CALNAME:New Bluffton Worship
X-ORIGINAL-URL:https://thenewblufftonworship.com
X-WR-CALDESC:Events for New Bluffton Worship
REFRESH-INTERVAL;VALUE=DURATION:PT1H
X-Robots-Tag:noindex
X-PUBLISHED-TTL:PT1H
BEGIN:VTIMEZONE
TZID:UTC
BEGIN:STANDARD
TZOFFSETFROM:+0000
TZOFFSETTO:+0000
TZNAME:UTC
DTSTART:20240101T000000
END:STANDARD
END:VTIMEZONE
BEGIN:VTIMEZONE
TZID:America/New_York
BEGIN:DAYLIGHT
TZOFFSETFROM:-0500
TZOFFSETTO:-0400
TZNAME:EDT
DTSTART:20240310T070000
END:DAYLIGHT
BEGIN:STANDARD
TZOFFSETFROM:-0400
TZOFFSETTO:-0500
TZNAME:EST
DTSTART:20241103T060000
END:STANDARD
BEGIN:DAYLIGHT
TZOFFSETFROM:-0500
TZOFFSETTO:-0400
TZNAME:EDT
DTSTART:20250309T070000
END:DAYLIGHT
BEGIN:STANDARD
TZOFFSETFROM:-0400
TZOFFSETTO:-0500
TZNAME:EST
DTSTART:20251102T060000
END:STANDARD
BEGIN:DAYLIGHT
TZOFFSETFROM:-0500
TZOFFSETTO:-0400
TZNAME:EDT
DTSTART:20260308T070000
END:DAYLIGHT
BEGIN:STANDARD
TZOFFSETFROM:-0400
TZOFFSETTO:-0500
TZNAME:EST
DTSTART:20261101T060000
END:STANDARD
END:VTIMEZONE
BEGIN:VEVENT
DTSTART;VALUE=DATE:20250824
DTEND;VALUE=DATE:20250825
DTSTAMP:20260424T001050
CREATED:20250727T115543Z
LAST-MODIFIED:20250730T181624Z
UID:7532-1755993600-1756079999@thenewblufftonworship.com
SUMMARY:New Member Sunday
DESCRIPTION:New Member Sunday | Sunday\, August 24 at the 9:00 and 10:30 a.m. services. \nAre you ready to take a bold step in your faith journey?\nHave you felt God leading you to plant your roots and call New Bluffton Worship your home? \nNew Member Sunday is a special time to say yes. Yes to belonging. Yes to growing. Yes to walking in faith with a church family that loves\, supports\, and encourages one another to live fully for Christ. \nIf you’ve been worshiping with us and feel called to make it official\, we would be honored to welcome you into membership. During both services we will celebrate new members and give thanks for what God is doing in our church. \nBring your family. Invite your friends. Let this be the day you say\, “I’m all in.” \nTo let us know you’re coming or to learn more\, email Monica at BlufftonWorship@gmail.com \nWe can’t wait to celebrate this step with you.
URL:https://thenewblufftonworship.com/event/new-member-sunday-2/
LOCATION:The New Bluffton Worship\, 39 Persimmon Street Suite 203 & 204\, Bluffton\, SC\, 29910\, United States
ATTACH;FMTTYPE=image/png:https://thenewblufftonworship.com/wp-content/uploads/2025/07/newmenber0804.png
ORGANIZER;CN="Monica Barricks":MAILTO:blufftonworship@gmail.com
END:VEVENT
BEGIN:VEVENT
DTSTART;TZID=UTC:20250820T180000
DTEND;TZID=UTC:20250924T193000
DTSTAMP:20260424T001050
CREATED:20250729T004142Z
LAST-MODIFIED:20250825T190902Z
UID:7542-1755712800-1758742200@thenewblufftonworship.com
SUMMARY:Discover Your Spiritual Gifts - Women’s Group Six-Week Study!
DESCRIPTION:Over six weeks\, women will explore the meaning and purpose of spiritual gifts\, our responsibility in using them\, and complete a Spiritual Gift Assessment to uncover the unique gifts God has given each of us. \nIf you’ve ever wondered about your purpose or how your gifts can best serve Jesus\, this study is for you! \nWhen: Wednesdays\, August 20 – September 24 | 6:00 – 7:30 PMWhere: The New Bluffton Worship – Main Building \nWhat to bring:Discover Your Spiritual Gifts book(Available on Amazon or Christian bookstores) \nRSVP to Laurie Jones or BlufftonWorship@gmail.com \nJoin us for an encouraging and insightful journey to discover how you can make a difference for God’s Kingdom!
URL:https://thenewblufftonworship.com/event/discover-your-spiritual-gifts-womens-group-six-week-study/
LOCATION:The New Bluffton Worship\, 39 Persimmon Street Suite 203 & 204\, Bluffton\, SC\, 29910\, United States
ATTACH;FMTTYPE=image/webp:https://thenewblufftonworship.com/wp-content/uploads/2025/07/GUEST_9ebfae83-dfec-47f2-869a-6d7be4d3bdd8-e1753898510131.webp
ORGANIZER;CN="Laurie Jones":MAILTO:lbjones8528@gmail.com
END:VEVENT
BEGIN:VEVENT
DTSTART;TZID=America/New_York:20250810T170000
DTEND;TZID=America/New_York:20250810T183000
DTSTAMP:20260424T001050
CREATED:20250630T195200Z
LAST-MODIFIED:20250730T183522Z
UID:7497-1754845200-1754850600@thenewblufftonworship.com
SUMMARY:Discipleship #3
DESCRIPTION:The New Bluffton Worship has begun offering 3-part sessions on Discipleship.  This is the final night for our summer program and is for those who have already attended sessions 1 and/or 2.    Watch for an announcement about another 3-part series beginning this fall. \n 
URL:https://thenewblufftonworship.com/event/discipleship-3/
LOCATION:The New Bluffton Worship\, 39 Persimmon Street Suite 203 & 204\, Bluffton\, SC\, 29910\, United States
ATTACH;FMTTYPE=image/jpeg:https://thenewblufftonworship.com/wp-content/uploads/2025/05/Discipleship-Red-Gray.jpg
ORGANIZER;CN="Larry Moneypenny":MAILTO:lmoneypenny266@gmail.com
END:VEVENT
BEGIN:VEVENT
DTSTART;TZID=UTC:20250810T120000
DTEND;TZID=UTC:20250810T140000
DTSTAMP:20260424T001050
CREATED:20250808T002254Z
LAST-MODIFIED:20250808T002254Z
UID:7580-1754827200-1754834400@thenewblufftonworship.com
SUMMARY:Youth Group Is Back!
DESCRIPTION:We’re so excited to welcome all middle and high school students to be part of a brand-new season at The New Bluffton Worship! Our Youth Group kicks off this Sunday\, August 10\, right after the 10:30 a.m. worship service and runs until 2:00 p.m. \nLed by our new Youth Leader\, BJ Johnson\, this gathering will be full of encouragement\, connection\, and meaningful growth. We’re launching a mini-series called Fresh Fruits\, focusing on the qualities God gives us to live boldly for Him and stay rooted in who He has called us to be. \nThis week’s message is titled Fresh Perspective\, and it’s the perfect opportunity for students to recharge and start the school year with intention and faith. \nEach gathering includes a delicious lunch\, time to relax\, laugh\, and connect\, an inspiring message from Scripture\, and real conversation through small and large group discussions. All students and friends are welcome!
URL:https://thenewblufftonworship.com/event/youth-group-is-back/
LOCATION:The New Bluffton Worship\, 39 Persimmon Street Suite 203 & 204\, Bluffton\, SC\, 29910\, United States
ATTACH;FMTTYPE=image/png:https://thenewblufftonworship.com/wp-content/uploads/2025/08/Brown-Modern-World-Youth-Day-Instagram-Post.png
END:VEVENT
BEGIN:VEVENT
DTSTART;TZID=America/New_York:20250803T103000
DTEND;TZID=America/New_York:20250803T113000
DTSTAMP:20260424T001050
CREATED:20250723T183517Z
LAST-MODIFIED:20250730T183214Z
UID:7522-1754217000-1754220600@thenewblufftonworship.com
SUMMARY:Back To School Blessing
DESCRIPTION:Back-to-School Blessing | Sunday\, August 3 at the 10:30 AM service \nGet ready for a powerful and joy-filled moment as we kick off the new school year together! \nWe’re inviting all students\, educators\, and home-school families to join us for a special time of prayer and blessing as we launch into the 2025–2026 school year. \nWhether you’re heading into preschool\, middle school\, high school\, college\, or you’re leading and teaching in the classroom\, this encouragement is for you. Come be a part of this uplifting Sunday as we surround our students and educators with hope\, love\, and prayer.
URL:https://thenewblufftonworship.com/event/back-to-school-blessing/
LOCATION:The New Bluffton Worship\, 39 Persimmon Street Suite 203 & 204\, Bluffton\, SC\, 29910\, United States
ATTACH;FMTTYPE=image/png:https://thenewblufftonworship.com/wp-content/uploads/2025/07/Blessingbookbag.png
ORGANIZER;CN="Monica Barricks":MAILTO:blufftonworship@gmail.com
END:VEVENT
BEGIN:VEVENT
DTSTART;TZID=America/New_York:20250801T180000
DTEND;TZID=America/New_York:20250801T200000
DTSTAMP:20260424T001050
CREATED:20250707T184958Z
LAST-MODIFIED:20250707T190210Z
UID:7511-1754071200-1754078400@thenewblufftonworship.com
SUMMARY:August First Friday
DESCRIPTION:For kids in pre-school thru grade 6\, don’t miss our upcoming First Friday fun! \n \nFor the Registration Form: click here \n 
URL:https://thenewblufftonworship.com/event/august-first-friday/
LOCATION:The New Bluffton Worship\, 39 Persimmon Street Suite 203 & 204\, Bluffton\, SC\, 29910\, United States
ORGANIZER;CN="Monica Barricks":MAILTO:blufftonworship@gmail.com
END:VEVENT
BEGIN:VEVENT
DTSTART;TZID=America/New_York:20250719T160000
DTEND;TZID=America/New_York:20250719T190000
DTSTAMP:20260424T001050
CREATED:20250611T163514Z
LAST-MODIFIED:20250718T131359Z
UID:7419-1752940800-1752951600@thenewblufftonworship.com
SUMMARY:Lowcountry Boil at SideHustle
DESCRIPTION:Come for authentic Lowcountry Boil\n*aka Frogmore Stew*\n(options for non-seafood eaters)\nSideHustle Brewing Company’s parking lot\n10 Buck Island Rd. (at the corner of Buck Island & Hwy 278) \n \n  \n \nFamily Food & Fun\nEnjoy a buffet of traditional Lowcountry Boil (also known locally as Frogmore Stew) with shrimp\, potatoes\, corn\, and sausage with the trimmings by Chef Mike Sigler and his team of fabulous cooks.  Side Hustle will be open for your beverage purchases.   Plus there will be live music by some of the Lowcountry’s best bands.  Kids will have plenty to keep them occupied like a fabulous bouncy and we will have food options for them and others who want to come join the fun\, but are not seafood fans.  Ticket sales have closed for the Lowcountry Boil\, but there will still be chicken tender plates with chips & a cookie for sale on Saturday for $5.00.  Donations can be made at the event.. \n  \nA Fundraiser for the Community – The Blessing Ministry\nIt’s about not just helping the children of the Lowcountry\, but BLESSING them!  Come join us as we raise money to bless students in Bluffton and Hardeeville.  This is an all-year mission to meet needs as soon as they arise.  Whether it is blessing a school with shoes\, socks\, and supplies\, or blessing families at Christmas time.  It is important to us to share the love of Jesus any time of the year!  Proceeds from the Lowcountry Boil will fund this important Community Mission. \nNOTE THAT YOUR CONFIRMATION EMAIL SERVES AS YOUR TICKET at the event.  You will NOT be mailed a ticket. \n 
URL:https://thenewblufftonworship.com/event/lowcountry-boil/
LOCATION:Side Hustle Brewing Co\, 10 Buck Island Rd\, Bluffton\, SC\, 29910\, United States
ATTACH;FMTTYPE=image/jpeg:https://thenewblufftonworship.com/wp-content/uploads/2025/06/Frogmore-food-tongs-2-scaled.jpg
ORGANIZER;CN="Monica Barricks":MAILTO:blufftonworship@gmail.com
END:VEVENT
BEGIN:VEVENT
DTSTART;TZID=UTC:20250629T170000
DTEND;TZID=UTC:20250629T183000
DTSTAMP:20260424T001050
CREATED:20250507T211849Z
LAST-MODIFIED:20250520T152452Z
UID:7324-1751216400-1751221800@thenewblufftonworship.com
SUMMARY:Discipleship Session 2
DESCRIPTION:The New Bluffton Worship is offering  3-session programs over the course of the next few months about Discipleship.  This is an opportunity for folks (new or seasoned) to engage together about where you are in your discipleship journey. We’ll cover the Definition of Discipleship\, Discipleship vs Mentorship\, Characteristics of a Disciple and more.  Watch for an announcement about another Session #1 for those who missed the first meeting in May. \nSession #2 is Sunday\, June 29  from 5:00 – 6:30pm.
URL:https://thenewblufftonworship.com/event/discipleship/
LOCATION:The New Bluffton Worship\, 39 Persimmon Street Suite 203 & 204\, Bluffton\, SC\, 29910\, United States
ATTACH;FMTTYPE=image/jpeg:https://thenewblufftonworship.com/wp-content/uploads/2025/05/Discipleship-Red-Gray.jpg
ORGANIZER;CN="Larry Moneypenny":MAILTO:lmoneypenny266@gmail.com
END:VEVENT
BEGIN:VEVENT
DTSTART;TZID=America/New_York:20250621T090000
DTEND;TZID=America/New_York:20250621T120000
DTSTAMP:20260424T001050
CREATED:20250604T155012Z
LAST-MODIFIED:20250609T191813Z
UID:7406-1750496400-1750507200@thenewblufftonworship.com
SUMMARY:Identity in Christ: A Women's Gathering
DESCRIPTION:Click here to RSVP by Monday\, June 16 …or sign up using a connection card at worship on Sunday\, June 15.
URL:https://thenewblufftonworship.com/event/my-identity-in-christ-a-womens-gathering/
LOCATION:The New Bluffton Worship\, 39 Persimmon Street Suite 203 & 204\, Bluffton\, SC\, 29910\, United States
ATTACH;FMTTYPE=image/jpeg:https://thenewblufftonworship.com/wp-content/uploads/2025/06/Identity-in-Christ.jpg
ORGANIZER;CN="Laurie Jones":MAILTO:lbjones8528@gmail.com
END:VEVENT
BEGIN:VEVENT
DTSTART;TZID=UTC:20250606T180000
DTEND;TZID=UTC:20250606T200000
DTSTAMP:20260424T001050
CREATED:20250521T000924Z
LAST-MODIFIED:20250522T001249Z
UID:7371-1749232800-1749240000@thenewblufftonworship.com
SUMMARY:First Friday - June
DESCRIPTION:For ages 3 through rising 6th graders.
URL:https://thenewblufftonworship.com/event/first-friday-june/
LOCATION:The New Bluffton Worship\, 39 Persimmon Street Suite 203 & 204\, Bluffton\, SC\, 29910\, United States
ATTACH;FMTTYPE=image/jpeg:https://thenewblufftonworship.com/wp-content/uploads/2025/05/First-Friday-6-6-25.jpg
END:VEVENT
BEGIN:VEVENT
DTSTART;TZID=America/New_York:20250605T180000
DTEND;TZID=America/New_York:20250605T193000
DTSTAMP:20260424T001050
CREATED:20250505T220719Z
LAST-MODIFIED:20250514T234142Z
UID:7312-1749146400-1749151800@thenewblufftonworship.com
SUMMARY:Who Am I?
DESCRIPTION:Join other women as we journey together to discover not only who we are\, but who we were created to be.  Through music\, scripture and personal activities\, we will learn more about ourselves and our purpose for this life. \nWe will meet in the worship space from 6:00-7:30pm.  Come early for a light meal.  Click below to RSVP. \n(Note – Number shown “going” is only the count of RSVPs through our website. Others have RSVPd at church or by emailing info@theNewBlufftonWorship.com)
URL:https://thenewblufftonworship.com/event/who-am-i/
LOCATION:The New Bluffton Worship\, 39 Persimmon Street Suite 203 & 204\, Bluffton\, SC\, 29910\, United States
ATTACH;FMTTYPE=image/jpeg:https://thenewblufftonworship.com/wp-content/uploads/2025/05/Who-Am-I-photo-only.jpg
ORGANIZER;CN="Laurie Jones":MAILTO:lbjones8528@gmail.com
END:VEVENT
BEGIN:VEVENT
DTSTART;TZID=UTC:20250518T090000
DTEND;TZID=UTC:20250518T113000
DTSTAMP:20260424T001050
CREATED:20250507T233615Z
LAST-MODIFIED:20250509T112510Z
UID:7341-1747558800-1747567800@thenewblufftonworship.com
SUMMARY:New Members Sunday
DESCRIPTION:If you are ready to say “The New Bluffton Worship is my church home” and want to make a commitment – or recommit – to following Jesus\, we invite you to stand with others becoming members on Sunday\, May 18 at either the 9:00 or 10:30 service.  Contact Monica or RSVP below so we can reach out to you and answer any questions ahead.
URL:https://thenewblufftonworship.com/event/new-member-sunday/
LOCATION:The New Bluffton Worship\, 39 Persimmon Street Suite 203 & 204\, Bluffton\, SC\, 29910\, United States
ATTACH;FMTTYPE=image/jpeg:https://thenewblufftonworship.com/wp-content/uploads/2025/05/TNBW-New-Members-Sunday.jpg
ORGANIZER;CN="Monica Barricks":MAILTO:blufftonworship@gmail.com
END:VEVENT
BEGIN:VEVENT
DTSTART;TZID=UTC:20250417T180000
DTEND;TZID=UTC:20250417T190000
DTSTAMP:20260424T001050
CREATED:20250313T152453Z
LAST-MODIFIED:20250415T193404Z
UID:7235-1744912800-1744916400@thenewblufftonworship.com
SUMMARY:Maundy Thursday Service - Journey to the Cross
DESCRIPTION:Maundy Thursday\, April 17th 6pm \nCommunion and Worship Service
URL:https://thenewblufftonworship.com/event/7235/
LOCATION:The New Bluffton Worship\, 39 Persimmon Street Suite 203 & 204\, Bluffton\, SC\, 29910\, United States
ATTACH;FMTTYPE=image/jpeg:https://thenewblufftonworship.com/wp-content/uploads/2025/03/Untitled-design-2.jpg
END:VEVENT
END:VCALENDAR