BEGIN:VCALENDAR
VERSION:2.0
PRODID:-//New Bluffton Worship - ECPv6.15.18//NONSGML v1.0//EN
CALSCALE:GREGORIAN
METHOD:PUBLISH
X-ORIGINAL-URL:https://thenewblufftonworship.com
X-WR-CALDESC:Events for New Bluffton Worship
REFRESH-INTERVAL;VALUE=DURATION:PT1H
X-Robots-Tag:noindex
X-PUBLISHED-TTL:PT1H
BEGIN:VTIMEZONE
TZID:UTC
BEGIN:STANDARD
TZOFFSETFROM:+0000
TZOFFSETTO:+0000
TZNAME:UTC
DTSTART:20250101T000000
END:STANDARD
END:VTIMEZONE
BEGIN:VEVENT
DTSTART;TZID=UTC:20260206T173000
DTEND;TZID=UTC:20260206T193000
DTSTAMP:20260423T194925
CREATED:20260201T031414Z
LAST-MODIFIED:20260201T031457Z
UID:7928-1770399000-1770406200@thenewblufftonworship.com
SUMMARY:First Friday Valentine’s Dance Party
DESCRIPTION:We are thrilled to invite your family to our First Friday Valentine’s Dance Party\, a fun-filled evening celebrating that God is love. \nOn Friday\, February 6\, from 5:30 to 7:30 p.m.\, children are invited to enjoy an evening packed with a dance party\, musical games\, Valentine crafts\, dinner\, and a short message celebrating God’s love. It’s a joyful\, high-energy night designed especially for kids. \nWhile the children are having fun\, parents are encouraged to enjoy a Parents’ Night Out\, take the time to relax\, connect\, or enjoy a Valentine’s evening knowing your kids are in a safe and loving environment. \nThis free event is open to children preschool through fifth grade\, and all participants must be potty trained. Dinner is included\, and pre-registration is required to secure your spot. \nWe would love for your family to join us for this special First Friday celebration. Click here to register First Friday- February 06\, 2026
URL:https://thenewblufftonworship.com/event/first-friday-valentines-dance-party/
LOCATION:The New Bluffton Worship\, 39 Persimmon Street Suite 203 & 204\, Bluffton\, SC\, 29910\, United States
ATTACH;FMTTYPE=image/png:https://thenewblufftonworship.com/wp-content/uploads/2026/02/Red-Illustrated-Valentines-Day-Party-Invitation-e1769915636877.png
END:VEVENT
BEGIN:VEVENT
DTSTART;TZID=UTC:20260207T080000
DTEND;TZID=UTC:20260207T103000
DTSTAMP:20260423T194925
CREATED:20260201T043213Z
LAST-MODIFIED:20260201T043213Z
UID:7943-1770451200-1770460200@thenewblufftonworship.com
SUMMARY:Okatie Elementary Flyby 5K Run
DESCRIPTION:We are excited to share that The New Bluffton Worship will be participating in the first annual Okatie Flyby 5K to support Okatie Elementary School. We will have a table at the event\, where we will be sharing information about our church\, highlighting what God is doing through our ministries\, and celebrating with the community. Come join us! Bring a chair\, cheer on the kids\, encourage the runners\, and be part of a fun morning of fellowship. Our youth group will be there as well\, and together we’ll share the love of Jesus and connect with our neighbors. \n  \nSaturday\, February 7th\, 2026 \nLocation: Okatie Elementary School\, 53 Cherry Point Road\, Bluffton\, SC 29909\nTime: We will be at the event from 8:00 a.m. until after the race\nRace Start: Kiddie Run – For ages 6 and under begins at 9:00 a.m. (free with registration)\nFlyby 5K: 9:15 a.m. for all ages; participants can run or walk \n  \nIf you would like to participate in the run or walk yourself\, or for more information about the event\, you can register here: Okatie Flyby 5K Registration.
URL:https://thenewblufftonworship.com/event/okatie-elementary-flyby-5k-run/
LOCATION:Okatie Elementary School\, 53 Cherry Point Road\, Bluffton\, SC 29909\, Bluffton\, South Carolina\, 29909
ATTACH;FMTTYPE=image/png:https://thenewblufftonworship.com/wp-content/uploads/2026/02/Blue-and-White-Minimalist-Group-Project-Presentation.png
END:VEVENT
BEGIN:VEVENT
DTSTART;VALUE=DATE:20260208
DTEND;VALUE=DATE:20260209
DTSTAMP:20260423T194925
CREATED:20260131T030525Z
LAST-MODIFIED:20260131T032257Z
UID:7910-1770508800-1770595199@thenewblufftonworship.com
SUMMARY:Founders Day and New Member Sunday
DESCRIPTION:Founders Day and New Member Sunday | February 8th | 9:00 & 10:30AM \n \nWe are blessed to celebrate Founders Day and welcome New Members during both worship services. After the 10:30 am service\, we will come together for a soup lunch and fellowship\, a time to connect\, celebrate\, and enjoy being together as one church family. \nWe would love for you to bring a pot of soup to share. Every soup adds to the warmth and joy of this gathering\, and together we can create a table full of flavor\, fellowship\, and fun. Please sign up using the link below to let us know what soup you plan to bring. \nCome join us\, share a soup\, and be part of this special celebration! \nhttps://blufftonworship.breezechms.com/form/372083
URL:https://thenewblufftonworship.com/event/founders-day-and-new-member-sunday/
LOCATION:The New Bluffton Worship\, 39 Persimmon Street Suite 203 & 204\, Bluffton\, SC\, 29910\, United States
ATTACH;FMTTYPE=image/png:https://thenewblufftonworship.com/wp-content/uploads/2026/01/Founders-Day-Sunday-February-8th-9-1030-Worship.png
END:VEVENT
BEGIN:VEVENT
DTSTART;TZID=UTC:20260208T183000
DTEND;TZID=UTC:20260208T203000
DTSTAMP:20260423T194925
CREATED:20260201T042419Z
LAST-MODIFIED:20260201T042419Z
UID:7939-1770575400-1770582600@thenewblufftonworship.com
SUMMARY:Super Bowl Watch Party
DESCRIPTION:Get ready for a night of football\, food\, and fun! Youth are invited to our Super Bowl Watch Party at The New Bluffton Worship\, where the big game meets big fellowship. \nIt’s a potluck-style evening\, so bring your favorite snack\, side\, or dessert to share. Cheer on your team\, enjoy great company\, and stay for games\, laughs\, and a whole lot of fun. You won’t want to miss this kickoff of fellowship and excitement!
URL:https://thenewblufftonworship.com/event/super-bowl-watch-party/
LOCATION:The New Bluffton Worship\, 39 Persimmon Street Suite 203 & 204\, Bluffton\, SC\, 29910\, United States
ATTACH;FMTTYPE=image/png:https://thenewblufftonworship.com/wp-content/uploads/2026/02/Orange-and-Cream-Modern-Football-Youth-Camp-Poster-scaled-e1769919769356.png
END:VEVENT
BEGIN:VEVENT
DTSTART;TZID=UTC:20260217T180000
DTEND;TZID=UTC:20260217T193000
DTSTAMP:20260423T194925
CREATED:20260215T145524Z
LAST-MODIFIED:20260216T192731Z
UID:8004-1771351200-1771356600@thenewblufftonworship.com
SUMMARY:Pancake Supper
DESCRIPTION:Pancake Supper\nJoin us for a family friendly Pancake Supper on Tuesday\, February 17 at 6:00 p.m. at The New Bluffton Worship. \nEnjoy a relaxed evening with a delicious pancake dinner\, great fellowship\, and live music by our very own Brewster. This is a wonderful opportunity to connect with your church family\, invite a friend\, and enjoy a fun night together. \nBring your family\, invite a friend\, and come hungry. We cannot wait to see you there!
URL:https://thenewblufftonworship.com/event/pancake-supper/
LOCATION:The New Bluffton Worship\, 39 Persimmon Street Suite 203 & 204\, Bluffton\, SC\, 29910\, United States
ATTACH;FMTTYPE=image/png:https://thenewblufftonworship.com/wp-content/uploads/2026/02/Tuesday-February-17-600-p.m.-New-Bluffton-Worship-Food-•-Fellowship-•-Fun-Live-Music-by-Brewster-Bring-your-family-and-invite-a-friend.png
END:VEVENT
BEGIN:VEVENT
DTSTART;TZID=UTC:20260218T120000
DTEND;TZID=UTC:20260218T130000
DTSTAMP:20260423T194925
CREATED:20260212T211501Z
LAST-MODIFIED:20260215T144054Z
UID:7983-1771416000-1771419600@thenewblufftonworship.com
SUMMARY:Ash Wednesday Service
DESCRIPTION:Ash Wednesday Service \nWe invite you to join us for a meaningful Ash Wednesday service on Wednesday\, February 18 at 12:00 p.m.\, as we begin the season of Lent. Ash Wednesday is a sacred moment in the life of the Church\, offering space to pause\, reflect\, and return our hearts to God. Through prayer\, worship\, and the reminder of God’s grace\, we prepare our hearts for Easter and the journey ahead. \n 
URL:https://thenewblufftonworship.com/event/ash-wednesday-service-2/
LOCATION:The New Bluffton Worship\, 39 Persimmon Street Suite 203 & 204\, Bluffton\, SC\, 29910\, United States
ATTACH;FMTTYPE=image/png:https://thenewblufftonworship.com/wp-content/uploads/2026/02/White-and-Brown-Simple-Ash-Wednesday-Service-Instagram-Post-e1770930872700.png
END:VEVENT
BEGIN:VEVENT
DTSTART;TZID=UTC:20260219T150000
DTEND;TZID=UTC:20260402T163000
DTSTAMP:20260423T194925
CREATED:20260201T030122Z
LAST-MODIFIED:20260304T223014Z
UID:7921-1771513200-1775147400@thenewblufftonworship.com
SUMMARY:Women’s Bible Study | Ephesians
DESCRIPTION:Women’s Bible Study: Ephesians\nJoin us for a seven-week women’s Bible study through the book of Ephesians as we explore how our faith shapes the way we live each day. This study is led by Laurie Jones and will meet weekly on Thursdays\, beginning February 19\, from 3:00 to 4:30 pm in the New Bluffton Worship Main Building. \nEach weekly session will include video teaching\, a guided teaching component\, and group discussion\, along with study questions for personal reflection to complete at home. Together\, we will explore the timeless truths found in Paul’s letter and consider the question posed in the study’s introduction: as saints transformed from death to life through Jesus Christ\, how do we now live? This study focuses on both faith and daily practice and features teaching from Bible teachers\, authors\, and friends Jackie Hill Perry\, Jasmine Holmes\, and Melissa Kruger. \nThe study guide is available for purchase on Amazon using this link below. \nhttps://a.co/d/25k8OSV \nIf you need assistance purchasing the book or have any questions\, please let us know through the registration form. \nPlease use the form below to register. \nhttps://blufftonworship.breezechms.com/form/d5a360
URL:https://thenewblufftonworship.com/event/womens-bible-study-ephesians/
LOCATION:The New Bluffton Worship\, 39 Persimmon Street Suite 203 & 204\, Bluffton\, SC\, 29910\, United States
ATTACH;FMTTYPE=image/jpeg:https://thenewblufftonworship.com/wp-content/uploads/2026/02/Womens-Ephesians.jpg
ORGANIZER;CN="Laurie Jones":MAILTO:lbjones8528@gmail.com
END:VEVENT
END:VCALENDAR