BEGIN:VCALENDAR
VERSION:2.0
PRODID:-//New Bluffton Worship - ECPv6.15.18//NONSGML v1.0//EN
CALSCALE:GREGORIAN
METHOD:PUBLISH
X-WR-CALNAME:New Bluffton Worship
X-ORIGINAL-URL:https://thenewblufftonworship.com
X-WR-CALDESC:Events for New Bluffton Worship
REFRESH-INTERVAL;VALUE=DURATION:PT1H
X-Robots-Tag:noindex
X-PUBLISHED-TTL:PT1H
BEGIN:VTIMEZONE
TZID:UTC
BEGIN:STANDARD
TZOFFSETFROM:+0000
TZOFFSETTO:+0000
TZNAME:UTC
DTSTART:20250101T000000
END:STANDARD
END:VTIMEZONE
BEGIN:VEVENT
DTSTART;TZID=UTC:20260219T150000
DTEND;TZID=UTC:20260402T163000
DTSTAMP:20260423T180729
CREATED:20260201T030122Z
LAST-MODIFIED:20260304T223014Z
UID:7921-1771513200-1775147400@thenewblufftonworship.com
SUMMARY:Women’s Bible Study | Ephesians
DESCRIPTION:Women’s Bible Study: Ephesians\nJoin us for a seven-week women’s Bible study through the book of Ephesians as we explore how our faith shapes the way we live each day. This study is led by Laurie Jones and will meet weekly on Thursdays\, beginning February 19\, from 3:00 to 4:30 pm in the New Bluffton Worship Main Building. \nEach weekly session will include video teaching\, a guided teaching component\, and group discussion\, along with study questions for personal reflection to complete at home. Together\, we will explore the timeless truths found in Paul’s letter and consider the question posed in the study’s introduction: as saints transformed from death to life through Jesus Christ\, how do we now live? This study focuses on both faith and daily practice and features teaching from Bible teachers\, authors\, and friends Jackie Hill Perry\, Jasmine Holmes\, and Melissa Kruger. \nThe study guide is available for purchase on Amazon using this link below. \nhttps://a.co/d/25k8OSV \nIf you need assistance purchasing the book or have any questions\, please let us know through the registration form. \nPlease use the form below to register. \nhttps://blufftonworship.breezechms.com/form/d5a360
URL:https://thenewblufftonworship.com/event/womens-bible-study-ephesians/
LOCATION:The New Bluffton Worship\, 39 Persimmon Street Suite 203 & 204\, Bluffton\, SC\, 29910\, United States
ATTACH;FMTTYPE=image/jpeg:https://thenewblufftonworship.com/wp-content/uploads/2026/02/Womens-Ephesians.jpg
ORGANIZER;CN="Laurie Jones":MAILTO:lbjones8528@gmail.com
END:VEVENT
BEGIN:VEVENT
DTSTART;TZID=UTC:20260306T173000
DTEND;TZID=UTC:20260306T193000
DTSTAMP:20260423T180729
CREATED:20260219T000227Z
LAST-MODIFIED:20260305T000415Z
UID:8016-1772818200-1772825400@thenewblufftonworship.com
SUMMARY:First Friday: Show and Share
DESCRIPTION:Children in Pre K through 5th Grade are invited to join us for a fun Show and Share night. Kids can share a talent\, a skill\, or something they love\, such as singing\, dancing\, jokes\, art\, crafts\, Bible verses\, and more. \n It is a fun and encouraging night where every child gets a chance to shine. \nDinner\, snacks\, and games included. This is a free Parents’ Night Out. \nRegister Today! First Friday: Show & Share
URL:https://thenewblufftonworship.com/event/first-friday-show-and-share/
LOCATION:The New Bluffton Worship\, 39 Persimmon Street Suite 203 & 204\, Bluffton\, SC\, 29910\, United States
ATTACH;FMTTYPE=image/jpeg:https://thenewblufftonworship.com/wp-content/uploads/2026/03/First-Friday-Show-2.jpg
END:VEVENT
BEGIN:VEVENT
DTSTART;TZID=UTC:20260321T120000
DTEND;TZID=UTC:20260321T150000
DTSTAMP:20260423T180729
CREATED:20260228T230424Z
LAST-MODIFIED:20260312T170812Z
UID:8049-1774094400-1774105200@thenewblufftonworship.com
SUMMARY:Lowcountry Oyster Roast
DESCRIPTION:🦪 Lowcountry Oyster Roast Fundraiser  \nWe are excited to invite you to our Lowcountry Oyster Roast on Saturday\, March 21 from 12–3 PM at Side Hustle Brewing Company. Enjoy an afternoon of all-you-can-eat oysters\, chili\, cornbread\, live music\, and great time with friends and family in a relaxed setting. \nYour $45 Oyster Roast Ticket includes unlimited oysters\, chili\, cornbread\, bottled water\, live music featuring some of Bluffton’s best\, and a full afternoon of family fun. We also offer a $10 Children’s Plate\, which includes chicken fingers\, chips\, water\, and a sweet treat\, making it a perfect event for the whole family. \nThis event directly supports The New Bluffton Worship’s Blessing Ministry and our Easter Blessing Outreach\, helping provide shoes\, socks\, uniforms\, and sports equipment for students at M. C. Riley Elementary School. Your participation helps us love and serve children and families right here in our community. \nWe would love for you to join us. Bring your friends\, bring the kids\, and be part of something fun and meaningful. \n🎫Purchase Your Tickets Below \nSecure online payment available through PayPal\, Venmo\, or credit card.
URL:https://thenewblufftonworship.com/event/lowcountry-oyster-roast/
LOCATION:Side Hustle Brewing Co\, 10 Buck Island Rd\, Bluffton\, SC\, 29910\, United States
ATTACH;FMTTYPE=image/jpeg:https://thenewblufftonworship.com/wp-content/uploads/2026/02/Oyster-Table-2025.jpeg
END:VEVENT
BEGIN:VEVENT
DTSTART;TZID=UTC:20260324T180000
DTEND;TZID=UTC:20260324T200000
DTSTAMP:20260423T180729
CREATED:20260314T122737Z
LAST-MODIFIED:20260315T191930Z
UID:8118-1774375200-1774382400@thenewblufftonworship.com
SUMMARY:Women's Fellowship Paint Night
DESCRIPTION:All women are invited to join us for a special evening of creativity\, connection\, and fun. \nThe Well for Women will host a Paint Night on Tuesday\, March 24 from 6:00 PM to 8:00 PM. This will be a relaxed evening filled with good food\, meaningful conversation\, and plenty of laughter as we spend time together. \nMelissa Benzin will guide us through a step-by-step painting experience. No art experience is necessary\, and you do not need to bring any supplies. Everything will be provided. \nCome enjoy a wonderful evening with other women in our church community. \nPlease fill form below to RSVP. \nWomen’s Fellowship Paint Night
URL:https://thenewblufftonworship.com/event/womens-fellowship-paint-night/
LOCATION:SC
ATTACH;FMTTYPE=image/png:https://thenewblufftonworship.com/wp-content/uploads/2026/03/Presentacion-Infantil-Taller-Creatividad-Doodle-Organico-Colores-Pasteles-2.png
END:VEVENT
END:VCALENDAR